BEGIN:VCALENDAR
VERSION:2.0
PRODID:-//easytaste - ECPv6.15.20//NONSGML v1.0//EN
CALSCALE:GREGORIAN
METHOD:PUBLISH
X-ORIGINAL-URL:https://25easytaste.ideanet.at
X-WR-CALDESC:Veranstaltungen für easytaste
REFRESH-INTERVAL;VALUE=DURATION:PT1H
X-Robots-Tag:noindex
X-PUBLISHED-TTL:PT1H
BEGIN:VTIMEZONE
TZID:Europe/Paris
BEGIN:DAYLIGHT
TZOFFSETFROM:+0100
TZOFFSETTO:+0200
TZNAME:CEST
DTSTART:20240331T010000
END:DAYLIGHT
BEGIN:STANDARD
TZOFFSETFROM:+0200
TZOFFSETTO:+0100
TZNAME:CET
DTSTART:20241027T010000
END:STANDARD
BEGIN:DAYLIGHT
TZOFFSETFROM:+0100
TZOFFSETTO:+0200
TZNAME:CEST
DTSTART:20250330T010000
END:DAYLIGHT
BEGIN:STANDARD
TZOFFSETFROM:+0200
TZOFFSETTO:+0100
TZNAME:CET
DTSTART:20251026T010000
END:STANDARD
BEGIN:DAYLIGHT
TZOFFSETFROM:+0100
TZOFFSETTO:+0200
TZNAME:CEST
DTSTART:20260329T010000
END:DAYLIGHT
BEGIN:STANDARD
TZOFFSETFROM:+0200
TZOFFSETTO:+0100
TZNAME:CET
DTSTART:20261025T010000
END:STANDARD
END:VTIMEZONE
BEGIN:VEVENT
DTSTART;VALUE=DATE:20250709
DTEND;VALUE=DATE:20250710
DTSTAMP:20260425T185700
CREATED:20250521T120448Z
LAST-MODIFIED:20250616T101923Z
UID:156-1752019200-1752105599@25easytaste.ideanet.at
SUMMARY:Kochkurs Vegan
DESCRIPTION:Entdecke die Freude am Kochen mit unserem praxisnahen Kochkurs für Anfänger und Hobbyköche! In entspannter Atmosphäre lernst du Schritt für Schritt\, wie man frische Zutaten in köstliche Gerichte verwandelt – von einfachen Alltagsrezepten bis hin zu raffinierten Menüs. Unsere erfahrenen Kursleiter geben wertvolle Tipps zu Zubereitung\, Würzen und Anrichten. Ideal für alle\, die genussvoll und kreativ kochen möchten.
URL:https://25easytaste.ideanet.at/veranstaltungen/kochkurs-vegan/
LOCATION:BHAK Perg\, Dirnbergerstraße 41\, Perg\, Oberösterreich\, 4320\, Austria
CATEGORIES:Kochkurse
ATTACH;FMTTYPE=image/jpeg:https://25easytaste.ideanet.at/wp-content/uploads/2025/06/noodles-4851996_1920.jpg
END:VEVENT
BEGIN:VEVENT
DTSTART;TZID=Europe/Paris:20250701T100000
DTEND;TZID=Europe/Paris:20250701T143000
DTSTAMP:20260425T185700
CREATED:20250521T190852Z
LAST-MODIFIED:20250521T191021Z
UID:247-1751364000-1751380200@25easytaste.ideanet.at
SUMMARY:Kochwettbewerb
DESCRIPTION:Zeig\, was in dir steckt! Beim EasyTaste Kochwettbewerb treten Hobbyköchinnen und -köche gegeneinander an und präsentieren ihre besten Rezepte. Ob süß oder herzhaft – deiner Kreativität sind keine Grenzen gesetzt! Eine Jury bewertet Geschmack\, Präsentation und Idee. Auf die Gewinner warten tolle Preise und die Chance\, ihr Rezept auf unserer Website zu veröffentlichen. Mach mit und werde Teil der EasyTaste-Community!
URL:https://25easytaste.ideanet.at/veranstaltungen/kochwettbewerb/
LOCATION:BHAK Perg\, Dirnbergerstraße 41\, Perg\, Oberösterreich\, 4320\, Austria
CATEGORIES:Wettbewerbe
ATTACH;FMTTYPE=image/jpeg:https://25easytaste.ideanet.at/wp-content/uploads/2025/05/salt-8955103_1920.jpg
END:VEVENT
END:VCALENDAR